BEGIN:VCALENDAR
VERSION:2.0
PRODID:-//AMP-NLS - ECPv6.15.18//NONSGML v1.0//EN
CALSCALE:GREGORIAN
METHOD:PUBLISH
X-WR-CALNAME:AMP-NLS
X-ORIGINAL-URL:https://www.amp-nls.org
X-WR-CALDESC:Évènements pour AMP-NLS
REFRESH-INTERVAL;VALUE=DURATION:PT1H
X-Robots-Tag:noindex
X-PUBLISHED-TTL:PT1H
BEGIN:VTIMEZONE
TZID:UTC
BEGIN:STANDARD
TZOFFSETFROM:+0000
TZOFFSETTO:+0000
TZNAME:UTC
DTSTART:20250101T000000
END:STANDARD
END:VTIMEZONE
BEGIN:VEVENT
DTSTART;VALUE=DATE:20260509
DTEND;VALUE=DATE:20260510
DTSTAMP:20260422T121248
CREATED:20260421T105930Z
LAST-MODIFIED:20260421T105930Z
UID:109223-1778284800-1778371199@www.amp-nls.org
SUMMARY:Initiative-NLS Vienna\, Knotting Seminar   With Éric Zuliani
DESCRIPTION:Initiative-NLS Vienna (Austria)\n\n\n\n\n\n\n9 May\, Vienna \nKnotting Seminar \nWith Éric Zuliani
URL:https://www.amp-nls.org/fr/calendar/initiative-nls-vienna-knotting-seminar-with-eric-zuliani/
CATEGORIES:AGENDA: TOUS LES ÉVÉNEMENTS,Séminaire Nouage
ATTACH;FMTTYPE=image/png:https://www.amp-nls.org/wp-content/uploads/2026/04/Wien-Knotting.png
END:VEVENT
END:VCALENDAR