BEGIN:VCALENDAR
VERSION:2.0
PRODID:-//AMP-NLS - ECPv6.15.18//NONSGML v1.0//EN
CALSCALE:GREGORIAN
METHOD:PUBLISH
X-WR-CALNAME:AMP-NLS
X-ORIGINAL-URL:https://www.amp-nls.org
X-WR-CALDESC:Évènements pour AMP-NLS
REFRESH-INTERVAL;VALUE=DURATION:PT1H
X-Robots-Tag:noindex
X-PUBLISHED-TTL:PT1H
BEGIN:VTIMEZONE
TZID:UTC
BEGIN:STANDARD
TZOFFSETFROM:+0000
TZOFFSETTO:+0000
TZNAME:UTC
DTSTART:20250101T000000
END:STANDARD
END:VTIMEZONE
BEGIN:VEVENT
DTSTART;VALUE=DATE:20260627
DTEND;VALUE=DATE:20260630
DTSTAMP:20260420T091030
CREATED:20250928T090701Z
LAST-MODIFIED:20260408T124243Z
UID:106336-1782518400-1782777599@www.amp-nls.org
SUMMARY:Congrès de la NLS/Congress of the NLS: Varité\, Les variations de la vérité en psychanalyse – Varity\, Variations of Truth in Psychoanalysis\, Paris
DESCRIPTION:Congrès de la NLS/Congress of the NLS: Varité\, Les variations de la vérité en psychanalyse – Varity\, Variations of Truth in Psychoanalysis Paris\, 27 & 28.06.2026
URL:https://www.amp-nls.org/fr/calendar/congres-de-la-nls-congress-of-the-nls-varite-les-variations-de-la-verite-en-psychanalyse-varity-variations-of-truth-in-psychoanalysis-paris/
CATEGORIES:AGENDA: TOUS LES ÉVÉNEMENTS
ATTACH;FMTTYPE=image/jpeg:https://www.amp-nls.org/wp-content/uploads/2025/09/nls_XXIV-affiche_WEB.jpg
END:VEVENT
END:VCALENDAR